Package: MeasurementError.cor Version: 1.81.0 Command: rm -rf MeasurementError.cor.buildbin-libdir && mkdir MeasurementError.cor.buildbin-libdir && /Users/biocbuild/BBS/utils/build-universal.sh MeasurementError.cor_1.81.0.tar.gz /Library/Frameworks/R.framework/Resources/bin/R MeasurementError.cor.buildbin-libdir StartedAt: 2025-10-25 01:48:15 -0400 (Sat, 25 Oct 2025) EndedAt: 2025-10-25 01:48:21 -0400 (Sat, 25 Oct 2025) EllapsedTime: 5.8 seconds RetCode: 0 Status: OK PackageFile: MeasurementError.cor_1.81.0.tgz PackageFileSize: 173.5 KiB