Package: MatrixRider Version: 1.41.0 Command: /home/biocbuild/bbs-3.22-bioc/R/bin/R CMD INSTALL MatrixRider StartedAt: 2025-10-24 16:02:12 -0400 (Fri, 24 Oct 2025) EndedAt: 2025-10-24 16:02:50 -0400 (Fri, 24 Oct 2025) EllapsedTime: 37.5 seconds RetCode: 0 Status: OK