Package: MatrixQCvis Version: 1.18.0 Command: /Library/Frameworks/R.framework/Resources/bin/R CMD INSTALL MatrixQCvis StartedAt: 2025-10-30 15:19:34 -0400 (Thu, 30 Oct 2025) EndedAt: 2025-10-30 15:19:51 -0400 (Thu, 30 Oct 2025) EllapsedTime: 17.0 seconds RetCode: 0 Status: OK