Package: MatrixQCvis Version: 1.18.0 Command: /Library/Frameworks/R.framework/Resources/bin/R CMD build --keep-empty-dirs --no-resave-data MatrixQCvis StartedAt: 2025-10-30 16:53:42 -0400 (Thu, 30 Oct 2025) EndedAt: 2025-10-30 16:54:46 -0400 (Thu, 30 Oct 2025) EllapsedTime: 64.7 seconds RetCode: 0 Status: OK PackageFile: MatrixQCvis_1.18.0.tar.gz PackageFileSize: 4.891 MiB