Package: MatrixQCvis Version: 1.18.0 Command: rm -rf MatrixQCvis.buildbin-libdir && mkdir MatrixQCvis.buildbin-libdir && /Users/biocbuild/BBS/utils/build-universal.sh MatrixQCvis_1.18.0.tar.gz /Library/Frameworks/R.framework/Resources/bin/R MatrixQCvis.buildbin-libdir StartedAt: 2025-10-30 23:06:16 -0400 (Thu, 30 Oct 2025) EndedAt: 2025-10-30 23:06:34 -0400 (Thu, 30 Oct 2025) EllapsedTime: 18.4 seconds RetCode: 0 Status: OK PackageFile: MatrixQCvis_1.18.0.tgz PackageFileSize: 5.146 MiB