Package: MatrixGenerics Version: 1.22.0 Command: /home/biocbuild/R/R/bin/R CMD INSTALL MatrixGenerics StartedAt: 2025-11-20 21:47:54 -0000 (Thu, 20 Nov 2025) EndedAt: 2025-11-20 21:48:30 -0000 (Thu, 20 Nov 2025) EllapsedTime: 36.2 seconds RetCode: 0 Status: OK