Package: MatrixGenerics Version: 1.22.0 Command: /home/biocbuild/R/R/bin/R CMD build --keep-empty-dirs --no-resave-data MatrixGenerics StartedAt: 2025-11-21 03:38:14 -0000 (Fri, 21 Nov 2025) EndedAt: 2025-11-21 03:38:16 -0000 (Fri, 21 Nov 2025) EllapsedTime: 2.0 seconds RetCode: 0 Status: OK PackageFile: MatrixGenerics_1.22.0.tar.gz PackageFileSize: 31.22 KiB