Package: MatrixGenerics Version: 1.21.0 Command: /home/biocbuild/bbs-3.22-bioc/R/bin/R CMD check --install=check:MatrixGenerics.install-out.txt --library=/home/biocbuild/bbs-3.22-bioc/R/site-library --timings MatrixGenerics_1.21.0.tar.gz StartedAt: 2025-10-25 01:10:51 -0400 (Sat, 25 Oct 2025) EndedAt: 2025-10-25 01:11:17 -0400 (Sat, 25 Oct 2025) EllapsedTime: 26.0 seconds RetCode: 0 Status: OK CheckDir: MatrixGenerics.Rcheck Warnings: 0