Package: MatrixGenerics Version: 1.21.0 Command: /Library/Frameworks/R.framework/Resources/bin/R CMD INSTALL MatrixGenerics StartedAt: 2025-10-24 15:04:58 -0400 (Fri, 24 Oct 2025) EndedAt: 2025-10-24 15:05:04 -0400 (Fri, 24 Oct 2025) EllapsedTime: 5.3 seconds RetCode: 0 Status: OK