Package: MassSpecWavelet Version: 1.76.0 Command: /home/biocbuild/bbs-3.22-bioc/R/bin/R CMD check --install=check:MassSpecWavelet.install-out.txt --library=/home/biocbuild/bbs-3.22-bioc/R/site-library --timings MassSpecWavelet_1.76.0.tar.gz StartedAt: 2025-11-15 01:17:45 -0500 (Sat, 15 Nov 2025) EndedAt: 2025-11-15 01:19:59 -0500 (Sat, 15 Nov 2025) EllapsedTime: 134.2 seconds RetCode: 0 Status: OK CheckDir: MassSpecWavelet.Rcheck Warnings: 0