Package: MassSpecWavelet Version: 1.75.1 Command: /Library/Frameworks/R.framework/Resources/bin/R CMD INSTALL MassSpecWavelet StartedAt: 2025-10-24 15:12:05 -0400 (Fri, 24 Oct 2025) EndedAt: 2025-10-24 15:12:22 -0400 (Fri, 24 Oct 2025) EllapsedTime: 16.2 seconds RetCode: 0 Status: OK