Package: MassSpecWavelet Version: 1.75.1 Command: rm -rf MassSpecWavelet.buildbin-libdir && mkdir MassSpecWavelet.buildbin-libdir && /Users/biocbuild/BBS/utils/build-universal.sh MassSpecWavelet_1.75.1.tar.gz /Library/Frameworks/R.framework/Resources/bin/R MassSpecWavelet.buildbin-libdir StartedAt: 2025-10-25 01:47:58 -0400 (Sat, 25 Oct 2025) EndedAt: 2025-10-25 01:48:08 -0400 (Sat, 25 Oct 2025) EllapsedTime: 10.5 seconds RetCode: 0 Status: OK PackageFile: MassSpecWavelet_1.75.1.tgz PackageFileSize: 2.167 MiB