Package: MassSpecWavelet Version: 1.76.0 Maintainer: Sergio Oller Moreno MaintainerEmail: sergioller at gmail.com git_url: https://git.bioconductor.org/packages/MassSpecWavelet git_branch: RELEASE_3_22 git_last_commit: 196b6c1 git_last_commit_date: 2025-10-29 09:59:19 -0400 (Wed, 29 Oct 2025)