Package: MassArray Version: 1.61.0 Command: /home/biocbuild/bbs-3.22-bioc/R/bin/R CMD build --keep-empty-dirs --no-resave-data --md5 MassArray StartedAt: 2025-10-27 18:28:07 -0400 (Mon, 27 Oct 2025) EndedAt: 2025-10-27 18:28:30 -0400 (Mon, 27 Oct 2025) EllapsedTime: 23.0 seconds RetCode: 0 Status: OK PackageFile: MassArray_1.61.0.tar.gz PackageFileSize: 377.3 KiB