Package: MassArray Version: 1.61.0 Command: /Library/Frameworks/R.framework/Resources/bin/R CMD INSTALL MassArray StartedAt: 2025-10-27 15:02:45 -0400 (Mon, 27 Oct 2025) EndedAt: 2025-10-27 15:03:01 -0400 (Mon, 27 Oct 2025) EllapsedTime: 16.7 seconds RetCode: 0 Status: OK