Package: MassArray Version: 1.61.0 Command: /Library/Frameworks/R.framework/Resources/bin/R CMD INSTALL MassArray StartedAt: 2025-10-24 15:04:04 -0400 (Fri, 24 Oct 2025) EndedAt: 2025-10-24 15:04:06 -0400 (Fri, 24 Oct 2025) EllapsedTime: 2.1 seconds RetCode: 0 Status: OK