Package: MantelCorr Version: 1.79.0 Command: /home/biocbuild/bbs-3.22-bioc/R/bin/R CMD build --keep-empty-dirs --no-resave-data --md5 MantelCorr StartedAt: 2025-10-24 18:36:05 -0400 (Fri, 24 Oct 2025) EndedAt: 2025-10-24 18:36:15 -0400 (Fri, 24 Oct 2025) EllapsedTime: 10.0 seconds RetCode: 0 Status: OK PackageFile: MantelCorr_1.79.0.tar.gz PackageFileSize: 938.5 KiB