Package: Macarron Version: 1.13.2 Command: /home/biocbuild/bbs-3.22-bioc/R/bin/R CMD INSTALL Macarron StartedAt: 2025-10-24 15:55:27 -0400 (Fri, 24 Oct 2025) EndedAt: 2025-10-24 15:55:46 -0400 (Fri, 24 Oct 2025) EllapsedTime: 19.8 seconds RetCode: 0 Status: OK