Package: Macarron Version: 1.13.2 Command: /home/biocbuild/bbs-3.22-bioc/R/bin/R CMD build --keep-empty-dirs --no-resave-data --md5 Macarron StartedAt: 2025-10-24 18:34:26 -0400 (Fri, 24 Oct 2025) EndedAt: 2025-10-24 18:40:37 -0400 (Fri, 24 Oct 2025) EllapsedTime: 371.3 seconds RetCode: 1 Status: ERROR PackageFile: None PackageFileSize: NA