Package: Macarron Version: 1.14.0 Command: /Library/Frameworks/R.framework/Resources/bin/R CMD INSTALL Macarron StartedAt: 2025-11-10 15:23:21 -0500 (Mon, 10 Nov 2025) EndedAt: 2025-11-10 15:23:30 -0500 (Mon, 10 Nov 2025) EllapsedTime: 8.7 seconds RetCode: 0 Status: OK