Package: Maaslin2 Version: 1.23.0 Command: /home/biocbuild/bbs-3.22-bioc/R/bin/R CMD INSTALL Maaslin2 StartedAt: 2025-10-27 15:16:22 -0400 (Mon, 27 Oct 2025) EndedAt: 2025-10-27 15:16:31 -0400 (Mon, 27 Oct 2025) EllapsedTime: 9.2 seconds RetCode: 0 Status: OK