Package: MWASTools Version: 1.33.0 Command: /home/biocbuild/bbs-3.22-bioc/R/bin/R CMD INSTALL MWASTools StartedAt: 2025-10-24 15:35:49 -0400 (Fri, 24 Oct 2025) EndedAt: 2025-10-24 15:36:21 -0400 (Fri, 24 Oct 2025) EllapsedTime: 32.0 seconds RetCode: 0 Status: OK