Package: MWASTools Version: 1.33.0 Command: /Library/Frameworks/R.framework/Resources/bin/R CMD INSTALL MWASTools StartedAt: 2025-10-24 15:14:07 -0400 (Fri, 24 Oct 2025) EndedAt: 2025-10-24 15:14:20 -0400 (Fri, 24 Oct 2025) EllapsedTime: 13.0 seconds RetCode: 0 Status: OK