Package: MWASTools Version: 1.33.0 Command: /Library/Frameworks/R.framework/Resources/bin/R CMD build --keep-empty-dirs --no-resave-data MWASTools StartedAt: 2025-10-24 17:11:47 -0400 (Fri, 24 Oct 2025) EndedAt: 2025-10-24 17:12:25 -0400 (Fri, 24 Oct 2025) EllapsedTime: 38.4 seconds RetCode: 0 Status: OK PackageFile: MWASTools_1.33.0.tar.gz PackageFileSize: 2.106 MiB