Package: MVCClass Version: 1.83.0 Command: /Library/Frameworks/R.framework/Resources/bin/R CMD build --keep-empty-dirs --no-resave-data MVCClass StartedAt: 2025-10-24 18:01:11 -0400 (Fri, 24 Oct 2025) EndedAt: 2025-10-24 18:01:22 -0400 (Fri, 24 Oct 2025) EllapsedTime: 11.5 seconds RetCode: 0 Status: OK PackageFile: MVCClass_1.83.0.tar.gz PackageFileSize: 1.029 MiB