Package: MVCClass Version: 1.83.0 Command: /Library/Frameworks/R.framework/Resources/bin/R CMD INSTALL MVCClass StartedAt: 2025-10-24 15:05:55 -0400 (Fri, 24 Oct 2025) EndedAt: 2025-10-24 15:06:03 -0400 (Fri, 24 Oct 2025) EllapsedTime: 8.5 seconds RetCode: 0 Status: OK