Package: MSstatsTMT Version: 2.17.0 Command: /home/biocbuild/bbs-3.22-bioc/R/bin/R CMD INSTALL MSstatsTMT StartedAt: 2025-10-24 15:23:03 -0400 (Fri, 24 Oct 2025) EndedAt: 2025-10-24 15:23:17 -0400 (Fri, 24 Oct 2025) EllapsedTime: 13.7 seconds RetCode: 0 Status: OK