Package: MSstatsTMT Version: 2.17.0 Command: /home/biocbuild/bbs-3.22-bioc/R/bin/R CMD build --keep-empty-dirs --no-resave-data --md5 MSstatsTMT StartedAt: 2025-10-24 19:04:47 -0400 (Fri, 24 Oct 2025) EndedAt: 2025-10-24 19:05:44 -0400 (Fri, 24 Oct 2025) EllapsedTime: 56.1 seconds RetCode: 0 Status: OK PackageFile: MSstatsTMT_2.17.0.tar.gz PackageFileSize: 1.534 MiB