Package: MSstatsShiny Version: 1.11.6 Command: /home/biocbuild/bbs-3.22-bioc/R/bin/R CMD INSTALL MSstatsShiny StartedAt: 2025-10-27 16:01:24 -0400 (Mon, 27 Oct 2025) EndedAt: 2025-10-27 16:01:55 -0400 (Mon, 27 Oct 2025) EllapsedTime: 31.0 seconds RetCode: 0 Status: OK