Package: MSstatsShiny Version: 1.11.6 Command: /home/biocbuild/bbs-3.22-bioc/R/bin/R CMD build --keep-empty-dirs --no-resave-data --md5 MSstatsShiny StartedAt: 2025-10-27 18:56:17 -0400 (Mon, 27 Oct 2025) EndedAt: 2025-10-27 18:57:00 -0400 (Mon, 27 Oct 2025) EllapsedTime: 43.1 seconds RetCode: 0 Status: OK PackageFile: MSstatsShiny_1.11.6.tar.gz PackageFileSize: 3.526 MiB