Package: MSstatsShiny Version: 1.12.0 Command: /Library/Frameworks/R.framework/Resources/bin/R CMD INSTALL MSstatsShiny StartedAt: 2025-10-30 15:31:19 -0400 (Thu, 30 Oct 2025) EndedAt: 2025-10-30 15:31:31 -0400 (Thu, 30 Oct 2025) EllapsedTime: 12.6 seconds RetCode: 0 Status: OK