Package: MSstatsShiny Version: 1.12.0 Command: rm -rf MSstatsShiny.buildbin-libdir && mkdir MSstatsShiny.buildbin-libdir && /Users/biocbuild/BBS/utils/build-universal.sh MSstatsShiny_1.12.0.tar.gz /Library/Frameworks/R.framework/Resources/bin/R MSstatsShiny.buildbin-libdir StartedAt: 2025-10-30 05:33:02 -0400 (Thu, 30 Oct 2025) EndedAt: 2025-10-30 05:33:14 -0400 (Thu, 30 Oct 2025) EllapsedTime: 12.2 seconds RetCode: 0 Status: OK PackageFile: MSstatsShiny_1.12.0.tgz PackageFileSize: 3.686 MiB