Package: MSstatsResponse Version: 0.99.2 Command: /home/biocbuild/bbs-3.22-bioc/R/bin/R CMD INSTALL MSstatsResponse StartedAt: 2025-10-24 15:19:27 -0400 (Fri, 24 Oct 2025) EndedAt: 2025-10-24 15:19:36 -0400 (Fri, 24 Oct 2025) EllapsedTime: 9.6 seconds RetCode: 0 Status: OK