Package: MSstatsResponse Version: 0.99.2 Command: /home/biocbuild/bbs-3.22-bioc/R/bin/R CMD build --keep-empty-dirs --no-resave-data --md5 MSstatsResponse StartedAt: 2025-10-24 19:04:34 -0400 (Fri, 24 Oct 2025) EndedAt: 2025-10-24 19:05:39 -0400 (Fri, 24 Oct 2025) EllapsedTime: 64.1 seconds RetCode: 0 Status: OK PackageFile: MSstatsResponse_0.99.2.tar.gz PackageFileSize: 8.151 MiB