Package: MSstatsQCgui Version: 1.29.0 Command: /home/biocbuild/bbs-3.22-bioc/R/bin/R CMD INSTALL MSstatsQCgui StartedAt: 2025-10-24 15:48:30 -0400 (Fri, 24 Oct 2025) EndedAt: 2025-10-24 15:49:09 -0400 (Fri, 24 Oct 2025) EllapsedTime: 38.5 seconds RetCode: 0 Status: OK