Package: MSstatsQCgui Version: 1.29.0 Command: /home/biocbuild/bbs-3.22-bioc/R/bin/R CMD build --keep-empty-dirs --no-resave-data --md5 MSstatsQCgui StartedAt: 2025-10-24 19:04:33 -0400 (Fri, 24 Oct 2025) EndedAt: 2025-10-24 19:05:13 -0400 (Fri, 24 Oct 2025) EllapsedTime: 40.0 seconds RetCode: 0 Status: OK PackageFile: MSstatsQCgui_1.29.0.tar.gz PackageFileSize: 76.16 KiB