Package: MSstatsQCgui Version: 1.29.0 Command: /Library/Frameworks/R.framework/Resources/bin/R CMD build --keep-empty-dirs --no-resave-data MSstatsQCgui StartedAt: 2025-10-24 17:10:22 -0400 (Fri, 24 Oct 2025) EndedAt: 2025-10-24 17:10:40 -0400 (Fri, 24 Oct 2025) EllapsedTime: 18.2 seconds RetCode: 0 Status: OK PackageFile: MSstatsQCgui_1.29.0.tar.gz PackageFileSize: 75.37 KiB