Package: MSstatsQC Version: 2.27.0 Command: /home/biocbuild/bbs-3.22-bioc/R/bin/R CMD INSTALL MSstatsQC StartedAt: 2025-10-24 15:47:50 -0400 (Fri, 24 Oct 2025) EndedAt: 2025-10-24 15:48:30 -0400 (Fri, 24 Oct 2025) EllapsedTime: 39.4 seconds RetCode: 0 Status: OK