Package: MSstatsLiP Version: 1.15.3 Command: /home/biocbuild/bbs-3.22-bioc/R/bin/R CMD build --keep-empty-dirs --no-resave-data --md5 MSstatsLiP StartedAt: 2025-10-24 19:04:19 -0400 (Fri, 24 Oct 2025) EndedAt: 2025-10-24 19:05:10 -0400 (Fri, 24 Oct 2025) EllapsedTime: 51.1 seconds RetCode: 0 Status: OK PackageFile: MSstatsLiP_1.15.3.tar.gz PackageFileSize: 1.819 MiB