Package: MSstatsLOBD Version: 1.17.0 Command: /home/biocbuild/bbs-3.22-bioc/R/bin/R CMD INSTALL MSstatsLOBD StartedAt: 2025-10-24 15:19:02 -0400 (Fri, 24 Oct 2025) EndedAt: 2025-10-24 15:19:16 -0400 (Fri, 24 Oct 2025) EllapsedTime: 13.5 seconds RetCode: 0 Status: OK