Package: MSstatsLOBD Version: 1.17.0 Command: /home/biocbuild/bbs-3.22-bioc/R/bin/R CMD build --keep-empty-dirs --no-resave-data --md5 MSstatsLOBD StartedAt: 2025-10-24 19:04:25 -0400 (Fri, 24 Oct 2025) EndedAt: 2025-10-24 19:04:47 -0400 (Fri, 24 Oct 2025) EllapsedTime: 22.1 seconds RetCode: 0 Status: OK PackageFile: MSstatsLOBD_1.17.0.tar.gz PackageFileSize: 379.6 KiB