Package: MSstatsLOBD Version: 1.18.0 Command: /Library/Frameworks/R.framework/Resources/bin/R CMD INSTALL MSstatsLOBD StartedAt: 2025-11-03 15:04:48 -0500 (Mon, 03 Nov 2025) EndedAt: 2025-11-03 15:04:55 -0500 (Mon, 03 Nov 2025) EllapsedTime: 7.0 seconds RetCode: 0 Status: OK