Package: MSstatsLOBD Version: 1.18.0 Command: /Library/Frameworks/R.framework/Resources/bin/R CMD build --keep-empty-dirs --no-resave-data MSstatsLOBD StartedAt: 2025-10-31 17:13:01 -0400 (Fri, 31 Oct 2025) EndedAt: 2025-10-31 17:13:12 -0400 (Fri, 31 Oct 2025) EllapsedTime: 11.1 seconds RetCode: 0 Status: OK PackageFile: MSstatsLOBD_1.18.0.tar.gz PackageFileSize: 341.1 KiB