Package: MSstatsLOBD Version: 1.18.0 Command: rm -rf MSstatsLOBD.buildbin-libdir && mkdir MSstatsLOBD.buildbin-libdir && /Users/biocbuild/BBS/utils/build-universal.sh MSstatsLOBD_1.18.0.tar.gz /Library/Frameworks/R.framework/Resources/bin/R MSstatsLOBD.buildbin-libdir StartedAt: 2025-10-31 23:15:43 -0400 (Fri, 31 Oct 2025) EndedAt: 2025-10-31 23:15:46 -0400 (Fri, 31 Oct 2025) EllapsedTime: 3.1 seconds RetCode: 0 Status: OK PackageFile: MSstatsLOBD_1.18.0.tgz PackageFileSize: 385 KiB