Package: MSstatsConvert Version: 1.19.3 Command: /home/biocbuild/bbs-3.22-bioc/R/bin/R CMD INSTALL MSstatsConvert StartedAt: 2025-10-27 15:04:41 -0400 (Mon, 27 Oct 2025) EndedAt: 2025-10-27 15:05:03 -0400 (Mon, 27 Oct 2025) EllapsedTime: 21.9 seconds RetCode: 0 Status: OK