Package: MSstatsConvert Version: 1.19.3 Command: /home/biocbuild/bbs-3.22-bioc/R/bin/R CMD build --keep-empty-dirs --no-resave-data --md5 MSstatsConvert StartedAt: 2025-10-24 19:04:08 -0400 (Fri, 24 Oct 2025) EndedAt: 2025-10-24 19:04:25 -0400 (Fri, 24 Oct 2025) EllapsedTime: 17.0 seconds RetCode: 0 Status: OK PackageFile: MSstatsConvert_1.19.3.tar.gz PackageFileSize: 2.115 MiB