Package: MSstatsBioNet Version: 1.1.7 Command: /home/biocbuild/R/R/bin/R CMD INSTALL MSstatsBioNet StartedAt: 2025-10-23 20:33:33 -0000 (Thu, 23 Oct 2025) EndedAt: 2025-10-23 20:33:51 -0000 (Thu, 23 Oct 2025) EllapsedTime: 18.0 seconds RetCode: 0 Status: OK