Package: MSstatsBioNet Version: 1.1.7 Command: /home/biocbuild/R/R/bin/R CMD build --keep-empty-dirs --no-resave-data MSstatsBioNet StartedAt: 2025-10-21 01:34:37 -0000 (Tue, 21 Oct 2025) EndedAt: 2025-10-21 01:35:14 -0000 (Tue, 21 Oct 2025) EllapsedTime: 37.0 seconds RetCode: 0 Status: OK PackageFile: MSstatsBioNet_1.1.7.tar.gz PackageFileSize: 557.9 KiB