Package: MSstatsBioNet Version: 1.1.7 Command: /home/biocbuild/bbs-3.22-bioc/R/bin/R CMD INSTALL MSstatsBioNet StartedAt: 2025-10-24 16:09:29 -0400 (Fri, 24 Oct 2025) EndedAt: 2025-10-24 16:09:43 -0400 (Fri, 24 Oct 2025) EllapsedTime: 13.6 seconds RetCode: 0 Status: OK