Package: MSstatsBioNet Version: 1.1.7 Command: /home/biocbuild/bbs-3.22-bioc/R/bin/R CMD check --install=check:MSstatsBioNet.install-out.txt --library=/home/biocbuild/bbs-3.22-bioc/R/site-library --timings MSstatsBioNet_1.1.7.tar.gz StartedAt: 2025-10-25 01:58:06 -0400 (Sat, 25 Oct 2025) EndedAt: 2025-10-25 01:59:31 -0400 (Sat, 25 Oct 2025) EllapsedTime: 85.1 seconds RetCode: 0 Status: OK CheckDir: MSstatsBioNet.Rcheck Warnings: 0